Workbook

Sheet csv貼付
A1: 受験番号 | B1: 出願者氏名(姓) | C1: 出願者氏名(名) | D1: ふりがな(せい) | E1: ふりがな(めい) | F1: 性別 | G1: 郵便番号 | H1: 住所 | I1: 電話番号 | J1: 出身学校名 | K1: 組 | L1: 番号 | M1: 受験会場 | N1: 第一志望学科 | O1: 第二志望学科 | P1: 第二志望学科 | Q1: 第二志望学科 | R1: 第二志望学科 | S1: 第二志望学科 | T1: 第二志望学科 | U1: 専願・併願 | V1: 保護者氏名 | W1: 続柄 | X1: 緊急連絡先 | Y1: 常用外漢字等の有無について | Z1: 検定料の支払い状況 | AA1: 検定料の決済方法 | AB1: 検定料の支払い日時

Sheet 集計表
B1: 令和 ９ 年 月 日
B3: 学校名
A5: ≪令和９年度 入学試験 志願者数集計表≫
A8: 受験学科 | B8: 受験者数 | C8: 備考
A9: 特進科 | B9: =受験者数詳細!H6 -> 0
A10: 普通科 | B10: =受験者数詳細!H7 -> 0
A11: 商業科 | B11: =受験者数詳細!H8 -> 0
A12: 建設工業科 | B12: =受験者数詳細!H9 -> 0
A13: 医療福祉科 | B13: =受験者数詳細!H10 -> 0
A14: 看護学科 | B14: =受験者数詳細!H11 -> 0
A15: 合計 | B15: =SUM(B9:B14) -> 0
A17: ※お手数をおかけしますが、処理の都合上、第一希望の学科ごとに並べて提出のご協力をお願いいたします。

Sheet 受験者数詳細
A1: 令和９年度 尚志館高校入学試験 受験者数 詳細
E2: =集計表!C3 -> 0 | H2: 中学校
B4: 学科専願 | D4: 学校専願 | F4: 併願 | H4: 第一志望計 | I4: 第二志望計
B5: 第一希望 | C5: 第二希望 | D5: 第一希望 | E5: 第二希望 | F5: 第一希望 | G5: 第二希望
A6: 特進科 | B6: =COUNTIFS(データ用!$E$2:$E$500,$B$4,データ用!$C$2:$C$500,$A6) -> 0 | C6: =COUNTIFS(データ用!$E$2:$E$500,$B$4,データ用!$D$2:$D$500,$A6) -> 0 | D6: =COUNTIFS(データ用!$E$2:$E$500,$D$4,データ用!$C$2:$C$500,$A6) -> 0 | E6: =COUNTIFS(データ用!$E$2:$E$500,$D$4,データ用!$D$2:$D$500,$A6) -> 0 | F6: =COUNTIFS(データ用!$E$2:$E$500,$F$4,データ用!$C$2:$C$500,$A6) -> 0 | G6: =COUNTIFS(データ用!$E$2:$E$500,$F$4,データ用!$D$2:$D$500,$A6) -> 0 | H6: =B6+D6+F6 -> 0 | I6: =C6+E6+G6 -> 0
A7: 普通科 | B7: =COUNTIFS(データ用!$E$2:$E$500,$B$4,データ用!$C$2:$C$500,$A7) -> 0 | C7: =COUNTIFS(データ用!$E$2:$E$500,$B$4,データ用!$D$2:$D$500,$A7) -> 0 | D7: =COUNTIFS(データ用!$E$2:$E$500,$D$4,データ用!$C$2:$C$500,$A7) -> 0 | E7: =COUNTIFS(データ用!$E$2:$E$500,$D$4,データ用!$D$2:$D$500,$A7) -> 0 | F7: =COUNTIFS(データ用!$E$2:$E$500,$F$4,データ用!$C$2:$C$500,$A7) -> 0 | G7: =COUNTIFS(データ用!$E$2:$E$500,$F$4,データ用!$D$2:$D$500,$A7) -> 0 | H7: =B7+D7+F7 -> 0 | I7: =C7+E7+G7 -> 0
A8: 商業科 | B8: =COUNTIFS(データ用!$E$2:$E$500,$B$4,データ用!$C$2:$C$500,$A8) -> 0 | C8: =COUNTIFS(データ用!$E$2:$E$500,$B$4,データ用!$D$2:$D$500,$A8) -> 0 | D8: =COUNTIFS(データ用!$E$2:$E$500,$D$4,データ用!$C$2:$C$500,$A8) -> 0 | E8: =COUNTIFS(データ用!$E$2:$E$500,$D$4,データ用!$D$2:$D$500,$A8) -> 0 | F8: =COUNTIFS(データ用!$E$2:$E$500,$F$4,データ用!$C$2:$C$500,$A8) -> 0 | G8: =COUNTIFS(データ用!$E$2:$E$500,$F$4,データ用!$D$2:$D$500,$A8) -> 0 | H8: =B8+D8+F8 -> 0 | I8: =C8+E8+G8 -> 0
A9: 建設工業科 | B9: =COUNTIFS(データ用!$E$2:$E$500,$B$4,データ用!$C$2:$C$500,$A9) -> 0 | C9: =COUNTIFS(データ用!$E$2:$E$500,$B$4,データ用!$D$2:$D$500,$A9) -> 0 | D9: =COUNTIFS(データ用!$E$2:$E$500,$D$4,データ用!$C$2:$C$500,$A9) -> 0 | E9: =COUNTIFS(データ用!$E$2:$E$500,$D$4,データ用!$D$2:$D$500,$A9) -> 0 | F9: =COUNTIFS(データ用!$E$2:$E$500,$F$4,データ用!$C$2:$C$500,$A9) -> 0 | G9: =COUNTIFS(データ用!$E$2:$E$500,$F$4,データ用!$D$2:$D$500,$A9) -> 0 | H9: =B9+D9+F9 -> 0 | I9: =C9+E9+G9 -> 0
A10: 医療福祉科 | B10: =COUNTIFS(データ用!$E$2:$E$500,$B$4,データ用!$C$2:$C$500,$A10) -> 0 | C10: =COUNTIFS(データ用!$E$2:$E$500,$B$4,データ用!$D$2:$D$500,$A10) -> 0 | D10: =COUNTIFS(データ用!$E$2:$E$500,$D$4,データ用!$C$2:$C$500,$A10) -> 0 | E10: =COUNTIFS(データ用!$E$2:$E$500,$D$4,データ用!$D$2:$D$500,$A10) -> 0 | F10: =COUNTIFS(データ用!$E$2:$E$500,$F$4,データ用!$C$2:$C$500,$A10) -> 0 | G10: =COUNTIFS(データ用!$E$2:$E$500,$F$4,データ用!$D$2:$D$500,$A10) -> 0 | H10: =B10+D10+F10 -> 0 | I10: =C10+E10+G10 -> 0
A11: 看護学科 | B11: =COUNTIFS(データ用!$E$2:$E$500,$B$4,データ用!$C$2:$C$500,$A11) -> 0 | C11: =COUNTIFS(データ用!$E$2:$E$500,$B$4,データ用!$D$2:$D$500,$A11) -> 0 | D11: =COUNTIFS(データ用!$E$2:$E$500,$D$4,データ用!$C$2:$C$500,$A11) -> 0 | E11: =COUNTIFS(データ用!$E$2:$E$500,$D$4,データ用!$D$2:$D$500,$A11) -> 0 | F11: =COUNTIFS(データ用!$E$2:$E$500,$F$4,データ用!$C$2:$C$500,$A11) -> 0 | G11: =COUNTIFS(データ用!$E$2:$E$500,$F$4,データ用!$D$2:$D$500,$A11) -> 0 | H11: =B11+D11+F11 -> 0 | I11: =C11+E11+G11 -> 0
A12: 計 | B12: =SUM(B6:B11) -> 0 | C12: =SUM(C6:C11) -> 0 | D12: =SUM(D6:D11) -> 0 | E12: =SUM(E6:E11) -> 0 | F12: =SUM(F6:F11) -> 0 | G12: =SUM(G6:G11) -> 0 | H12: =B12+D12+F12 -> 0 | I12: =C12+E12+G12 -> 0

Sheet データ用
A1: せい | B1: めい | C1: 第一 | D1: 第二 | E1: 専併
A2: =csv貼付!B2 -> 0 | B2: =csv貼付!C2 -> 0 | C2: =csv貼付!N2 -> 0 | D2: =_xlfn.TEXTJOIN(",",TRUE,csv貼付!O2:T2) | E2: =csv貼付!U2 -> 0
A3: =csv貼付!B3 -> 0 | B3: =csv貼付!C3 -> 0 | C3: =csv貼付!N3 -> 0 | D3: =_xlfn.TEXTJOIN(",",TRUE,csv貼付!O3:T3) | E3: =csv貼付!U3 -> 0
A4: =csv貼付!B4 -> 0 | B4: =csv貼付!C4 -> 0 | C4: =csv貼付!N4 -> 0 | D4: =_xlfn.TEXTJOIN(",",TRUE,csv貼付!O4:T4) | E4: =csv貼付!U4 -> 0
A5: =csv貼付!B5 -> 0 | B5: =csv貼付!C5 -> 0 | C5: =csv貼付!N5 -> 0 | D5: =_xlfn.TEXTJOIN(",",TRUE,csv貼付!O5:T5) | E5: =csv貼付!U5 -> 0
A6: =csv貼付!B6 -> 0 | B6: =csv貼付!C6 -> 0 | C6: =csv貼付!N6 -> 0 | D6: =_xlfn.TEXTJOIN(",",TRUE,csv貼付!O6:T6) | E6: =csv貼付!U6 -> 0
A7: =csv貼付!B7 -> 0 | B7: =csv貼付!C7 -> 0 | C7: =csv貼付!N7 -> 0 | D7: =_xlfn.TEXTJOIN(",",TRUE,csv貼付!O7:T7) | E7: =csv貼付!U7 -> 0
A8: =csv貼付!B8 -> 0 | B8: =csv貼付!C8 -> 0 | C8: =csv貼付!N8 -> 0 | D8: =_xlfn.TEXTJOIN(",",TRUE,csv貼付!O8:T8) | E8: =csv貼付!U8 -> 0
A9: =csv貼付!B9 -> 0 | B9: =csv貼付!C9 -> 0 | C9: =csv貼付!N9 -> 0 | D9: =_xlfn.TEXTJOIN(",",TRUE,csv貼付!O9:T9) | E9: =csv貼付!U9 -> 0
A10: =csv貼付!B10 -> 0 | B10: =csv貼付!C10 -> 0 | C10: =csv貼付!N10 -> 0 | D10: =_xlfn.TEXTJOIN(",",TRUE,csv貼付!O10:T10) | E10: =csv貼付!U10 -> 0
A11: =csv貼付!B11 -> 0 | B11: =csv貼付!C11 -> 0 | C11: =csv貼付!N11 -> 0 | D11: =_xlfn.TEXTJOIN(",",TRUE,csv貼付!O11:T11) | E11: =csv貼付!U11 -> 0
A12: =csv貼付!B12 -> 0 | B12: =csv貼付!C12 -> 0 | C12: =csv貼付!N12 -> 0 | D12: =_xlfn.TEXTJOIN(",",TRUE,csv貼付!O12:T12) | E12: =csv貼付!U12 -> 0
A13: =csv貼付!B13 -> 0 | B13: =csv貼付!C13 -> 0 | C13: =csv貼付!N13 -> 0 | D13: =_xlfn.TEXTJOIN(",",TRUE,csv貼付!O13:T13) | E13: =csv貼付!U13 -> 0
... A500: =csv貼付!B500 -> 0 | B500: =csv貼付!C500 -> 0 | C500: =csv貼付!N500 -> 0 | D500: =_xlfn.TEXTJOIN(",",TRUE,csv貼付!O500:T500) | E500: =csv貼付!U500 -> 0

Sheet 集計表 (手入力)
B1: 令和 ９ 年 月 日
B3: 学校名
A5: ≪令和９年度 入学試験 志願者数集計表≫
A8: 受験学科 | B8: 受験者数 | C8: 備考
A9: 特進科
A10: 普通科
A11: 商業科
A12: 建設工業科
A13: 医療福祉科
A14: 看護学科
A15: 合計
A17: ※お手数をおかけしますが、処理の都合上、第一希望の学科ごとに並べて提出のご協力をお願いいたします。

Sheet Sheet2
